BEGIN:VCALENDAR
VERSION:2.0
PRODID:-//Tukios.com/
BEGIN:VEVENT
UID:f77eb5dc-bbca-435f-b6af-a46645853ddf@www.pitchfordfuneralhome.com
DTSTAMP:20260421T230659Z
DTSTART:20260425T210000Z
DTEND:20260426T000000Z
SUMMARY:Visitation
DESCRIPTION:
URL:https://www.pitchfordfuneralhome.com/obituaries/michelle-whitman
LOCATION: 2555 Vaughn Rd  Wood River IL 62095
GEO:38.8772541;-90.0596786
END:VEVENT
END:VCALENDAR