BEGIN:VCALENDAR
VERSION:2.0
PRODID:-//Tukios.com/
BEGIN:VEVENT
UID:2aee922f-43bf-4629-8cdf-f5ae4d71baeb@www.pitchfordfuneralhome.com
DTSTAMP:20260421T231130Z
DTSTART:20260425T230000Z
DTEND:20260425T233000Z
SUMMARY:Funeral Service
DESCRIPTION:
URL:https://www.pitchfordfuneralhome.com/obituaries/michelle-whitman
LOCATION: 2555 Vaughn Rd  Wood River IL 62095
GEO:38.8772541;-90.0596786
END:VEVENT
END:VCALENDAR